BEGIN:VCALENDAR
VERSION:2.0
PRODID:-//TriOS Mess- und Datentechnik GmbH - ECPv6.15.20//NONSGML v1.0//EN
CALSCALE:GREGORIAN
METHOD:PUBLISH
X-WR-CALNAME:TriOS Mess- und Datentechnik GmbH
X-ORIGINAL-URL:https://trios.de
X-WR-CALDESC:Veranstaltungen für TriOS Mess- und Datentechnik GmbH
REFRESH-INTERVAL;VALUE=DURATION:PT1H
X-Robots-Tag:noindex
X-PUBLISHED-TTL:PT1H
BEGIN:VTIMEZONE
TZID:Europe/Berlin
BEGIN:DAYLIGHT
TZOFFSETFROM:+0100
TZOFFSETTO:+0200
TZNAME:CEST
DTSTART:20250330T010000
END:DAYLIGHT
BEGIN:STANDARD
TZOFFSETFROM:+0200
TZOFFSETTO:+0100
TZNAME:CET
DTSTART:20251026T010000
END:STANDARD
BEGIN:DAYLIGHT
TZOFFSETFROM:+0100
TZOFFSETTO:+0200
TZNAME:CEST
DTSTART:20260329T010000
END:DAYLIGHT
BEGIN:STANDARD
TZOFFSETFROM:+0200
TZOFFSETTO:+0100
TZNAME:CET
DTSTART:20261025T010000
END:STANDARD
BEGIN:DAYLIGHT
TZOFFSETFROM:+0100
TZOFFSETTO:+0200
TZNAME:CEST
DTSTART:20270328T010000
END:DAYLIGHT
BEGIN:STANDARD
TZOFFSETFROM:+0200
TZOFFSETTO:+0100
TZNAME:CET
DTSTART:20271031T010000
END:STANDARD
END:VTIMEZONE
BEGIN:VEVENT
DTSTART;VALUE=DATE:20260504
DTEND;VALUE=DATE:20260508
DTSTAMP:20260421T105043
CREATED:20251119T143948Z
LAST-MODIFIED:20251119T144012Z
UID:16293-1777852800-1778198399@trios.de
SUMMARY:IFAT München
DESCRIPTION:IFAT München 4.–7. Mai 2026\nMesse München GmbH\, Messegelände\, 81823 München\nhttps://ifat.de/de/
URL:https://trios.de/event/ifat-muenchen/
ATTACH;FMTTYPE=image/png:https://trios.de/wp-content/uploads/2025/11/IFAT-Logo-Munich-4c.png
END:VEVENT
BEGIN:VEVENT
DTSTART;VALUE=DATE:20260525
DTEND;VALUE=DATE:20260529
DTSTAMP:20260421T105043
CREATED:20251212T114116Z
LAST-MODIFIED:20251212T114116Z
UID:16591-1779667200-1780012799@trios.de
SUMMARY:OzWater 2026
DESCRIPTION:OzWater 2026 – Brisbane\n26.05.2026 – 28.05.2026\nBrisbane Convention & Exhibition Centre\nGrey St\, South Brisbane QLD 4101\, Australien
URL:https://trios.de/event/ozwater-2026/
ATTACH;FMTTYPE=image/svg+xml:https://trios.de/wp-content/uploads/2025/12/AWA-x-Ozwater.svg
END:VEVENT
BEGIN:VEVENT
DTSTART;VALUE=DATE:20260610
DTEND;VALUE=DATE:20260614
DTSTAMP:20260421T105043
CREATED:20260311T073956Z
LAST-MODIFIED:20260311T073956Z
UID:18066-1781049600-1781395199@trios.de
SUMMARY:Fieldays 2026
DESCRIPTION:Fieldays 2026\n10.06.2026 – 13.06.2026\nHamilton\, Neuseeland
URL:https://trios.de/event/fieldays-2026/
END:VEVENT
BEGIN:VEVENT
DTSTART;VALUE=DATE:20260615
DTEND;VALUE=DATE:20260620
DTSTAMP:20260421T105043
CREATED:20251119T144557Z
LAST-MODIFIED:20251128T072503Z
UID:16297-1781481600-1781913599@trios.de
SUMMARY:SIWW Singapore Water Week
DESCRIPTION:SIWW Singapore Water Week 15.-19.06.2026\nSands Expo & Convention Centre  Marina Bay Sands\, Singapore\nhttps://www.siww.com.sg/home
URL:https://trios.de/event/siww-singapore-water-week/
ATTACH;FMTTYPE=image/png:https://trios.de/wp-content/uploads/2025/11/SIWW_logo.png
END:VEVENT
BEGIN:VEVENT
DTSTART;VALUE=DATE:20260701
DTEND;VALUE=DATE:20260702
DTSTAMP:20260421T105043
CREATED:20260202T155433Z
LAST-MODIFIED:20260203T141747Z
UID:17378-1782864000-1782950399@trios.de
SUMMARY:Labsolutions live 2026 Troisdorf
DESCRIPTION:Termin:\n1. Juli 2026\n09:00 – 15:30 Uhr \nOrt:\nStadthalle Troisdorf\nKölner Str. 167\n53840 Troisdorf \nhttps://www.thgeyer.com/de/news-events/events/labsolutions-live-2026-troisdorf
URL:https://trios.de/event/labsolutions-live-2026-troisdorf/
ATTACH;FMTTYPE=image/svg+xml:https://trios.de/wp-content/uploads/2025/05/th-geyer-logo.svg
END:VEVENT
BEGIN:VEVENT
DTSTART;VALUE=DATE:20260913
DTEND;VALUE=DATE:20260919
DTSTAMP:20260421T105043
CREATED:20260116T073849Z
LAST-MODIFIED:20260203T141632Z
UID:16998-1789257600-1789775999@trios.de
SUMMARY:Ocean Optics Conference
DESCRIPTION:Ocean Optics Conference \n13.09-2026 – 18.09.2026 \nVIERNULVIER & WINTERCIRCUS\, Gent Belgien
URL:https://trios.de/event/ocean-optics-conference/
ATTACH;FMTTYPE=image/png:https://trios.de/wp-content/uploads/2026/01/oceanopticsXXVII-logo-1.png
END:VEVENT
BEGIN:VEVENT
DTSTART;VALUE=DATE:20261007
DTEND;VALUE=DATE:20261008
DTSTAMP:20260421T105043
CREATED:20260202T083500Z
LAST-MODIFIED:20260203T141739Z
UID:17335-1791331200-1791417599@trios.de
SUMMARY:Labsolutions live 2026 Leipzig
DESCRIPTION:GLOBANA Messe- & Conference Center \nMünchener Ring 2\n04435 Schkeuditz/Leipzig \n7. Oktober 2026\n09:00 – 15:30 Uhr \nhttps://www.thgeyer.com/de/news-events/events/labsolutions-live-2026-leipzig
URL:https://trios.de/event/labsolutions-live-2026/
ATTACH;FMTTYPE=image/svg+xml:https://trios.de/wp-content/uploads/2025/05/th-geyer-logo.svg
END:VEVENT
BEGIN:VEVENT
DTSTART;VALUE=DATE:20261201
DTEND;VALUE=DATE:20261203
DTSTAMP:20260421T105043
CREATED:20260116T075428Z
LAST-MODIFIED:20260116T075510Z
UID:17004-1796083200-1796255999@trios.de
SUMMARY:STEP
DESCRIPTION:STEP \n01.12.2026 – 02.12.2026 \nParis Expo Porte de Versailles – Hall 1
URL:https://trios.de/event/step/
END:VEVENT
END:VCALENDAR